BEGIN:VCALENDAR
VERSION:2.0
PRODID:-//Tukios.com/
BEGIN:VEVENT
UID:d8bbb581-af2e-45e5-a9ec-a67668038fdc@www.heritageofnwa.com
DTSTAMP:20260421T170724Z
DTSTART:20260422T200000Z
DTEND:20260422T210000Z
SUMMARY:Graveside Service
DESCRIPTION:
URL:https://www.heritageofnwa.com/obituaries/helen-hobel
LOCATION:Farmington Cemetery N Double Springs Rd.  Farmington AR 72730
GEO:36.0543366;-94.2582859
END:VEVENT
END:VCALENDAR