BEGIN:VCALENDAR
VERSION:2.0
PRODID:-//Tukios.com/
BEGIN:VEVENT
UID:adfea2dc-05a4-4441-b951-08632eb67946@www.heritageofnwa.com
DTSTAMP:20260420T211102Z
DTSTART:20260423T183000Z
DTEND:20260423T193000Z
SUMMARY:Burial
DESCRIPTION:
URL:https://www.heritageofnwa.com/obituaries/geneva-watts
LOCATION: 1000 S Lt Col Leroy Pond Ave  Fayetteville AR 72701
GEO:36.0531062;-94.167674
END:VEVENT
END:VCALENDAR