BEGIN:VCALENDAR
VERSION:2.0
PRODID:-//Tukios.com/
BEGIN:VEVENT
UID:c934aa4b-0f0d-4240-a2d6-04cbd518941d@www.heritageofnwa.com
DTSTAMP:20260420T211207Z
DTSTART:20260423T153000Z
DTEND:20260423T163000Z
SUMMARY:Funeral Service
DESCRIPTION:
URL:https://www.heritageofnwa.com/obituaries/geneva-watts
LOCATION: 1605 West Robinson Avenue  Springdale AR 72764
GEO:36.1667656;-94.1485006
END:VEVENT
END:VCALENDAR