BEGIN:VCALENDAR
VERSION:2.0
PRODID:-//Tukios.com/
BEGIN:VEVENT
UID:07129a40-6317-4dc8-aa4a-4ae74044284b@www.heritageofnwa.com
DTSTAMP:20260420T210841Z
DTSTART:20260423T143000Z
DTEND:20260423T153000Z
SUMMARY:Visitation
DESCRIPTION:
URL:https://www.heritageofnwa.com/obituaries/geneva-watts
LOCATION:Springdale First Assembly 1605 W Robinson Ave  Springdale AR 
	72764
GEO:36.1668023;-94.148552
END:VEVENT
END:VCALENDAR